BEGIN:VCALENDAR
VERSION:2.0
PRODID:-//eventon.com NONSGML v1.0//EN
CALSCALE:GREGORIAN
METHOD:PUBLISH
BEGIN:VEVENT
UID:69ecb89bf044f
DTSTAMP:20260425T125035Z
DTSTART:20260426T150000Z
DTEND:20260427T045000Z
LOCATION:Gathering Hall
SUMMARY:Coffee & Fellowship
DESCRIPTION:Donuts return weekly on September 18!\nhttps://gracedm.org/even
 ts/fellowship/var/ri-374.l-L1
URL:https://gracedm.org/events/fellowship/var/ri-374.l-L1
END:VEVENT
END:VCALENDAR