BEGIN:VCALENDAR
VERSION:2.0
PRODID:-//eventon.com NONSGML v1.0//EN
CALSCALE:GREGORIAN
METHOD:PUBLISH
BEGIN:VEVENT
UID:69e5844001da2
DTSTAMP:20260420T014120Z
DTSTART:20260420T223000Z
DTEND:20260421T013000Z
LOCATION:Grace Hall &amp; Kitchen
SUMMARY:Three Legacies meetings
DESCRIPTION:\nhttps://gracedm.org/events/aa-groups-3/var/ri-216.l-L1
URL:https://gracedm.org/events/aa-groups-3/var/ri-216.l-L1
END:VEVENT
END:VCALENDAR