BEGIN:VCALENDAR
VERSION:2.0
PRODID:-//eventon.com NONSGML v1.0//EN
CALSCALE:GREGORIAN
METHOD:PUBLISH
BEGIN:VEVENT
UID:69ecb6cc5ff5d
DTSTAMP:20260425T124252Z
DTSTART:20260427T223000Z
DTEND:20260428T013000Z
LOCATION:Grace Hall &amp; Kitchen
SUMMARY:Three Legacies meetings
DESCRIPTION:\nhttps://gracedm.org/events/aa-groups-3/var/ri-217.l-L1
URL:https://gracedm.org/events/aa-groups-3/var/ri-217.l-L1
END:VEVENT
END:VCALENDAR