BEGIN:VCALENDAR
VERSION:2.0
PRODID:-//eventon.com NONSGML v1.0//EN
CALSCALE:GREGORIAN
METHOD:PUBLISH
BEGIN:VEVENT
UID:69ea6c07620df
DTSTAMP:20260423T185919Z
DTSTART:20241031T233000Z
DTEND:20241101T003000Z
LOCATION:Room 102
SUMMARY:Bible Study - Fall 2024 - Spring 2025
DESCRIPTION:\nhttps://gracedm.org/events/bible-study-fall-2024-genesis-2/va
 r/ri-7.l-L1
URL:https://gracedm.org/events/bible-study-fall-2024-genesis-2/var/ri-7.l-L1
END:VEVENT
END:VCALENDAR