BEGIN:VCALENDAR
VERSION:2.0
PRODID:-//eventon.com NONSGML v1.0//EN
CALSCALE:GREGORIAN
METHOD:PUBLISH
BEGIN:VEVENT
UID:69eb6e631f198
DTSTAMP:20260424T132139Z
DTSTART:20260424T170000Z
DTEND:20260425T045000Z
LOCATION:Being New Spirituality Center
SUMMARY:Recovery Cafe weekly meetings at Being New
DESCRIPTION:Recovery Cafe: Fridays at noon at Being New. Recovery Circle is
  for anyone navigating challenges like addiction\,  depressions\,  life tra
 nsitions—or simply seeking a healthier lifestyle or deeper sense of purpo
 se. The circle offers a safe space to share without judgment\,  set goals\,
   celebrate steps of progress and move forward. Questions?[..]\nhttps://gra
 cedm.org/events/recovery-cafe-weekly-meetings-at-being-new-2/var/ri-67.l-L1
URL:https://gracedm.org/events/recovery-cafe-weekly-meetings-at-being-new-2/var/ri-67.l-L1
END:VEVENT
END:VCALENDAR