BEGIN:VCALENDAR
VERSION:2.0
PRODID:-//eventon.com NONSGML v1.0//EN
CALSCALE:GREGORIAN
METHOD:PUBLISH
BEGIN:VEVENT
UID:69ea13e84963f
DTSTAMP:20260423T124320Z
DTSTART:20260423T223000Z
DTEND:20260423T233000Z
LOCATION:Room 102
SUMMARY:Bible Study - Fall 2025- Spring 2026
DESCRIPTION:\nhttps://gracedm.org/events/bible-study-fall-2025-spring-2026-
 2/var/ri-29.l-L1
URL:https://gracedm.org/events/bible-study-fall-2025-spring-2026-2/var/ri-29.l-L1
END:VEVENT
END:VCALENDAR