BEGIN:VCALENDAR
VERSION:2.0
PRODID:-//eventon.com NONSGML v1.0//EN
CALSCALE:GREGORIAN
METHOD:PUBLISH
BEGIN:VEVENT
UID:69e89c23d611f
DTSTAMP:20260422T100003Z
DTSTART:20260422T234500Z
DTEND:20260423T004500Z
LOCATION:Room 102
SUMMARY:Confirmation
DESCRIPTION:Confirmation will not meet during Lent.\nhttps://gracedm.org/ev
 ents/confirmation-2/var/ri-18.l-L1
URL:https://gracedm.org/events/confirmation-2/var/ri-18.l-L1
END:VEVENT
END:VCALENDAR